Package: flowMap Version: 1.35.0 Command: /Library/Frameworks/R.framework/Resources/bin/R CMD build --keep-empty-dirs --no-resave-data flowMap StartedAt: 2022-07-06 21:03:45 -0400 (Wed, 06 Jul 2022) EndedAt: 2022-07-06 21:05:50 -0400 (Wed, 06 Jul 2022) EllapsedTime: 125.5 seconds RetCode: 0 Status: OK PackageFile: flowMap_1.35.0.tar.gz PackageFileSize: 876 KiB