Package: flowCore Version: 2.10.0 Command: chmod a+r flowCore -R && F:\biocbuild\bbs-3.16-bioc\R\bin\R.exe CMD build --keep-empty-dirs --no-resave-data flowCore StartedAt: 2023-04-10 18:45:15 -0400 (Mon, 10 Apr 2023) EndedAt: 2023-04-10 18:47:50 -0400 (Mon, 10 Apr 2023) EllapsedTime: 154.6 seconds RetCode: 0 Status: OK PackageFile: flowCore_2.10.0.tar.gz PackageFileSize: 7.443 MiB