Package: flowCore Version: 2.10.0 Command: rm -rf flowCore.buildbin-libdir && mkdir flowCore.buildbin-libdir && F:\biocbuild\bbs-3.16-bioc\R\bin\R.exe CMD INSTALL --build --library=flowCore.buildbin-libdir flowCore_2.10.0.tar.gz StartedAt: 2023-04-11 08:00:12 -0400 (Tue, 11 Apr 2023) EndedAt: 2023-04-11 08:01:33 -0400 (Tue, 11 Apr 2023) EllapsedTime: 81.5 seconds RetCode: 0 Status: OK PackageFile: flowCore_2.10.0.zip PackageFileSize: 8.951 MiB