Package: evaluomeR Version: 1.14.0 Command: /home/biocbuild/bbs-3.16-bioc/R/bin/R CMD build --keep-empty-dirs --no-resave-data evaluomeR StartedAt: 2023-04-10 16:43:20 -0400 (Mon, 10 Apr 2023) EndedAt: 2023-04-10 16:44:21 -0400 (Mon, 10 Apr 2023) EllapsedTime: 61.4 seconds RetCode: 0 Status: OK PackageFile: evaluomeR_1.14.0.tar.gz PackageFileSize: 785.7 KiB