Package: evaluomeR Version: 1.13.0 Command: rm -rf evaluomeR.buildbin-libdir && mkdir evaluomeR.buildbin-libdir && /Users/biocbuild/BBS/utils/build-universal.sh evaluomeR_1.13.0.tar.gz /Library/Frameworks/R.framework/Resources/bin/R evaluomeR.buildbin-libdir StartedAt: 2022-07-07 07:53:24 -0400 (Thu, 07 Jul 2022) EndedAt: 2022-07-07 07:54:25 -0400 (Thu, 07 Jul 2022) EllapsedTime: 61.1 seconds RetCode: 0 Status: OK PackageFile: evaluomeR_1.13.0.tgz PackageFileSize: 936.2 KiB