Package: epigraHMM Version: 1.6.4 Command: /home/biocbuild/bbs-3.16-bioc/R/bin/R CMD INSTALL epigraHMM StartedAt: 2023-04-10 15:51:51 -0400 (Mon, 10 Apr 2023) EndedAt: 2023-04-10 15:54:49 -0400 (Mon, 10 Apr 2023) EllapsedTime: 177.9 seconds RetCode: 0 Status: OK