Package: epigraHMM Version: 1.6.4 Command: /home/biocbuild/bbs-3.16-bioc/R/bin/R CMD build --keep-empty-dirs --no-resave-data epigraHMM StartedAt: 2023-04-10 16:41:14 -0400 (Mon, 10 Apr 2023) EndedAt: 2023-04-10 16:50:18 -0400 (Mon, 10 Apr 2023) EllapsedTime: 543.7 seconds RetCode: 0 Status: OK PackageFile: epigraHMM_1.6.4.tar.gz PackageFileSize: 673.1 KiB