Package: deconvR Version: 1.4.5 Command: /Library/Frameworks/R.framework/Resources/bin/R CMD INSTALL deconvR StartedAt: 2023-04-10 15:35:15 -0400 (Mon, 10 Apr 2023) EndedAt: 2023-04-10 15:36:10 -0400 (Mon, 10 Apr 2023) EllapsedTime: 54.9 seconds RetCode: 0 Status: OK