Package: ddPCRclust Version: 1.17.0 Command: /Library/Frameworks/R.framework/Resources/bin/R CMD INSTALL ddPCRclust StartedAt: 2022-07-10 17:34:16 -0400 (Sun, 10 Jul 2022) EndedAt: 2022-07-10 17:34:17 -0400 (Sun, 10 Jul 2022) EllapsedTime: 1.0 seconds RetCode: 1 Status: ERROR