Package: countsimQC Version: 1.16.1 Command: /Library/Frameworks/R.framework/Resources/bin/R CMD build --keep-empty-dirs --no-resave-data countsimQC StartedAt: 2023-04-10 16:15:34 -0400 (Mon, 10 Apr 2023) EndedAt: 2023-04-10 16:17:07 -0400 (Mon, 10 Apr 2023) EllapsedTime: 92.6 seconds RetCode: 0 Status: OK PackageFile: countsimQC_1.16.1.tar.gz PackageFileSize: 440.4 KiB