Package: cosmosR Version: 1.6.0 Command: /home/biocbuild/bbs-3.16-bioc/R/bin/R CMD build --keep-empty-dirs --no-resave-data cosmosR StartedAt: 2023-04-10 16:28:25 -0400 (Mon, 10 Apr 2023) EndedAt: 2023-04-10 16:28:36 -0400 (Mon, 10 Apr 2023) EllapsedTime: 11.3 seconds RetCode: 0 Status: OK PackageFile: cosmosR_1.6.0.tar.gz PackageFileSize: 3.357 MiB