Package: cmapR Version: 1.9.0 Command: /Library/Frameworks/R.framework/Resources/bin/R CMD INSTALL cmapR StartedAt: 2022-07-10 16:26:17 -0400 (Sun, 10 Jul 2022) EndedAt: 2022-07-10 16:27:20 -0400 (Sun, 10 Jul 2022) EllapsedTime: 62.8 seconds RetCode: 0 Status: OK