Package: clusterSeq Version: 1.22.0 Command: rm -rf clusterSeq.buildbin-libdir && mkdir clusterSeq.buildbin-libdir && F:\biocbuild\bbs-3.16-bioc\R\bin\R.exe CMD INSTALL --build --library=clusterSeq.buildbin-libdir clusterSeq_1.22.0.tar.gz StartedAt: 2023-04-11 07:45:36 -0400 (Tue, 11 Apr 2023) EndedAt: 2023-04-11 07:45:58 -0400 (Tue, 11 Apr 2023) EllapsedTime: 21.8 seconds RetCode: 0 Status: OK PackageFile: clusterSeq_1.22.0.zip PackageFileSize: 1.055 MiB