Package: clusterSeq Version: 1.22.0 Command: /home/biocbuild/bbs-3.16-bioc/R/bin/R CMD check --install=check:clusterSeq.install-out.txt --library=/home/biocbuild/bbs-3.16-bioc/R/site-library --timings clusterSeq_1.22.0.tar.gz StartedAt: 2023-04-10 19:47:05 -0400 (Mon, 10 Apr 2023) EndedAt: 2023-04-10 19:53:01 -0400 (Mon, 10 Apr 2023) EllapsedTime: 355.7 seconds RetCode: 0 Status: OK CheckDir: clusterSeq.Rcheck Warnings: 0