Package: cisPath Version: 1.38.0 Command: chmod a+r cisPath -R && F:\biocbuild\bbs-3.16-bioc\R\bin\R.exe CMD build --keep-empty-dirs --no-resave-data cisPath StartedAt: 2023-04-10 17:46:03 -0400 (Mon, 10 Apr 2023) EndedAt: 2023-04-10 17:46:41 -0400 (Mon, 10 Apr 2023) EllapsedTime: 37.4 seconds RetCode: 0 Status: OK PackageFile: cisPath_1.38.0.tar.gz PackageFileSize: 934.8 KiB