Package: cisPath Version: 1.38.0 Command: rm -rf cisPath.buildbin-libdir && mkdir cisPath.buildbin-libdir && F:\biocbuild\bbs-3.16-bioc\R\bin\R.exe CMD INSTALL --build --library=cisPath.buildbin-libdir cisPath_1.38.0.tar.gz StartedAt: 2023-04-11 07:44:40 -0400 (Tue, 11 Apr 2023) EndedAt: 2023-04-11 07:44:59 -0400 (Tue, 11 Apr 2023) EllapsedTime: 19.4 seconds RetCode: 0 Status: OK PackageFile: cisPath_1.38.0.zip PackageFileSize: 1.239 MiB