Package: chopsticks Version: 1.64.0 Command: /home/biocbuild/bbs-3.16-bioc/R/bin/R CMD build --keep-empty-dirs --no-resave-data chopsticks StartedAt: 2023-04-10 16:21:26 -0400 (Mon, 10 Apr 2023) EndedAt: 2023-04-10 16:21:53 -0400 (Mon, 10 Apr 2023) EllapsedTime: 27.0 seconds RetCode: 0 Status: OK PackageFile: chopsticks_1.64.0.tar.gz PackageFileSize: 6.55 MiB