| Back to Multiple platform build/check report for BioC 3.16: simplified long |
|
This page was generated on 2023-04-12 11:05:28 -0400 (Wed, 12 Apr 2023).
| Hostname | OS | Arch (*) | R version | Installed pkgs |
|---|---|---|---|---|
| nebbiolo2 | Linux (Ubuntu 20.04.5 LTS) | x86_64 | 4.2.3 (2023-03-15) -- "Shortstop Beagle" | 4502 |
| palomino4 | Windows Server 2022 Datacenter | x64 | 4.2.3 (2023-03-15 ucrt) -- "Shortstop Beagle" | 4282 |
| lconway | macOS 12.5.1 Monterey | x86_64 | 4.2.3 (2023-03-15) -- "Shortstop Beagle" | 4310 |
| Click on any hostname to see more info about the system (e.g. compilers) (*) as reported by 'uname -p', except on Windows and Mac OS X | ||||
|
To the developers/maintainers of the chopsticks package: - Please allow up to 24 hours (and sometimes 48 hours) for your latest push to git@git.bioconductor.org:packages/chopsticks.git to reflect on this report. See How and When does the builder pull? When will my changes propagate? for more information. - Make sure to use the following settings in order to reproduce any error or warning you see on this page. |
| Package 320/2183 | Hostname | OS / Arch | INSTALL | BUILD | CHECK | BUILD BIN | ||||||||
| chopsticks 1.64.0 (landing page) Hin-Tak Leung
| nebbiolo2 | Linux (Ubuntu 20.04.5 LTS) / x86_64 | OK | OK | WARNINGS | |||||||||
| palomino4 | Windows Server 2022 Datacenter / x64 | OK | OK | WARNINGS | OK | |||||||||
| lconway | macOS 12.5.1 Monterey / x86_64 | OK | OK | WARNINGS | OK | |||||||||
| Package: chopsticks |
| Version: 1.64.0 |
| Command: rm -rf chopsticks.buildbin-libdir && mkdir chopsticks.buildbin-libdir && F:\biocbuild\bbs-3.16-bioc\R\bin\R.exe CMD INSTALL --build --library=chopsticks.buildbin-libdir chopsticks_1.64.0.tar.gz |
| StartedAt: 2023-04-11 07:43:49 -0400 (Tue, 11 Apr 2023) |
| EndedAt: 2023-04-11 07:44:22 -0400 (Tue, 11 Apr 2023) |
| EllapsedTime: 33.0 seconds |
| RetCode: 0 |
| Status: OK |
| PackageFile: chopsticks_1.64.0.zip |
| PackageFileSize: 5.331 MiB |
##############################################################################
##############################################################################
###
### Running command:
###
### rm -rf chopsticks.buildbin-libdir && mkdir chopsticks.buildbin-libdir && F:\biocbuild\bbs-3.16-bioc\R\bin\R.exe CMD INSTALL --build --library=chopsticks.buildbin-libdir chopsticks_1.64.0.tar.gz
###
##############################################################################
##############################################################################
* installing *source* package 'chopsticks' ...
** using staged installation
** libs
gcc -I"F:/biocbuild/bbs-3.16-bioc/R/include" -DNDEBUG -I"C:/rtools42/x86_64-w64-mingw32.static.posix/include" -O2 -Wall -std=gnu99 -mfpmath=sse -msse2 -mstackrealign -c adler32.c -o adler32.o
gcc -I"F:/biocbuild/bbs-3.16-bioc/R/include" -DNDEBUG -I"C:/rtools42/x86_64-w64-mingw32.static.posix/include" -O2 -Wall -std=gnu99 -mfpmath=sse -msse2 -mstackrealign -c bind.c -o bind.o
gcc -I"F:/biocbuild/bbs-3.16-bioc/R/include" -DNDEBUG -I"C:/rtools42/x86_64-w64-mingw32.static.posix/include" -O2 -Wall -std=gnu99 -mfpmath=sse -msse2 -mstackrealign -c compress.c -o compress.o
gcc -I"F:/biocbuild/bbs-3.16-bioc/R/include" -DNDEBUG -I"C:/rtools42/x86_64-w64-mingw32.static.posix/include" -O2 -Wall -std=gnu99 -mfpmath=sse -msse2 -mstackrealign -c crc32.c -o crc32.o
gcc -I"F:/biocbuild/bbs-3.16-bioc/R/include" -DNDEBUG -I"C:/rtools42/x86_64-w64-mingw32.static.posix/include" -O2 -Wall -std=gnu99 -mfpmath=sse -msse2 -mstackrealign -c deflate.c -o deflate.o
gcc -I"F:/biocbuild/bbs-3.16-bioc/R/include" -DNDEBUG -I"C:/rtools42/x86_64-w64-mingw32.static.posix/include" -O2 -Wall -std=gnu99 -mfpmath=sse -msse2 -mstackrealign -c force_hom.c -o force_hom.o
gcc -I"F:/biocbuild/bbs-3.16-bioc/R/include" -DNDEBUG -I"C:/rtools42/x86_64-w64-mingw32.static.posix/include" -O2 -Wall -std=gnu99 -mfpmath=sse -msse2 -mstackrealign -c glm_test.c -o glm_test.o
glm_test.c: In function 'glm_fit':
glm_test.c:107:31: warning: argument 1 range [18446744071562067968, 18446744073709551615] exceeds maximum object size 9223372036854775807 [-Walloc-size-larger-than=]
107 | double *yw = (double *) calloc(N, sizeof(double));
| ^~~~~~~~~~~~~~~~~~~~~~~~~
In file included from glm_test.c:1:
c:\rtools42\x86_64-w64-mingw32.static.posix\include\stdlib.h:535:17: note: in a call to allocation function 'calloc' declared here
535 | void *__cdecl calloc(size_t _NumOfElements,size_t _SizeOfElements);
| ^~~~~~
gcc -I"F:/biocbuild/bbs-3.16-bioc/R/include" -DNDEBUG -I"C:/rtools42/x86_64-w64-mingw32.static.posix/include" -O2 -Wall -std=gnu99 -mfpmath=sse -msse2 -mstackrealign -c glm_test_R.c -o glm_test_R.o
gcc -I"F:/biocbuild/bbs-3.16-bioc/R/include" -DNDEBUG -I"C:/rtools42/x86_64-w64-mingw32.static.posix/include" -O2 -Wall -std=gnu99 -mfpmath=sse -msse2 -mstackrealign -c gzio.c -o gzio.o
gcc -I"F:/biocbuild/bbs-3.16-bioc/R/include" -DNDEBUG -I"C:/rtools42/x86_64-w64-mingw32.static.posix/include" -O2 -Wall -std=gnu99 -mfpmath=sse -msse2 -mstackrealign -c hash_index.c -o hash_index.o
gcc -I"F:/biocbuild/bbs-3.16-bioc/R/include" -DNDEBUG -I"C:/rtools42/x86_64-w64-mingw32.static.posix/include" -O2 -Wall -std=gnu99 -mfpmath=sse -msse2 -mstackrealign -c ibs.c -o ibs.o
gcc -I"F:/biocbuild/bbs-3.16-bioc/R/include" -DNDEBUG -I"C:/rtools42/x86_64-w64-mingw32.static.posix/include" -O2 -Wall -std=gnu99 -mfpmath=sse -msse2 -mstackrealign -c in.c -o in.o
gcc -I"F:/biocbuild/bbs-3.16-bioc/R/include" -DNDEBUG -I"C:/rtools42/x86_64-w64-mingw32.static.posix/include" -O2 -Wall -std=gnu99 -mfpmath=sse -msse2 -mstackrealign -c infback.c -o infback.o
gcc -I"F:/biocbuild/bbs-3.16-bioc/R/include" -DNDEBUG -I"C:/rtools42/x86_64-w64-mingw32.static.posix/include" -O2 -Wall -std=gnu99 -mfpmath=sse -msse2 -mstackrealign -c inffast.c -o inffast.o
gcc -I"F:/biocbuild/bbs-3.16-bioc/R/include" -DNDEBUG -I"C:/rtools42/x86_64-w64-mingw32.static.posix/include" -O2 -Wall -std=gnu99 -mfpmath=sse -msse2 -mstackrealign -c inflate.c -o inflate.o
gcc -I"F:/biocbuild/bbs-3.16-bioc/R/include" -DNDEBUG -I"C:/rtools42/x86_64-w64-mingw32.static.posix/include" -O2 -Wall -std=gnu99 -mfpmath=sse -msse2 -mstackrealign -c inftrees.c -o inftrees.o
gcc -I"F:/biocbuild/bbs-3.16-bioc/R/include" -DNDEBUG -I"C:/rtools42/x86_64-w64-mingw32.static.posix/include" -O2 -Wall -std=gnu99 -mfpmath=sse -msse2 -mstackrealign -c input.c -o input.o
gcc -I"F:/biocbuild/bbs-3.16-bioc/R/include" -DNDEBUG -I"C:/rtools42/x86_64-w64-mingw32.static.posix/include" -O2 -Wall -std=gnu99 -mfpmath=sse -msse2 -mstackrealign -c inputNew.c -o inputNew.o
inputNew.c: In function 'simplify_names':
inputNew.c:687:5: warning: 'strncpy' output may be truncated copying 127 bytes from a string of length 127 [-Wstringop-truncation]
687 | strncpy(back, front, MAX_FLD-1);
| ^~~~~~~~~~~~~~~~~~~~~~~~~~~~~~~
inputNew.c: In function 'insnp_new':
inputNew.c:408:4: warning: 'strncpy' output may be truncated copying 127 bytes from a string of length 127 [-Wstringop-truncation]
408 | strncpy(gtype2, field, MAX_FLD-1);
| ^~~~~~~~~~~~~~~~~~~~~~~~~~~~~~~~~
inputNew.c:404:4: warning: 'strncpy' output may be truncated copying 127 bytes from a string of length 127 [-Wstringop-truncation]
404 | strncpy(gtype1, field, MAX_FLD-1);
| ^~~~~~~~~~~~~~~~~~~~~~~~~~~~~~~~~
inputNew.c:401:4: warning: 'strncpy' output may be truncated copying 127 bytes from a string of length 127 [-Wstringop-truncation]
401 | strncpy(cscore, field, MAX_FLD-1);
| ^~~~~~~~~~~~~~~~~~~~~~~~~~~~~~~~~
inputNew.c:398:4: warning: 'strncpy' output may be truncated copying 127 bytes from a string of length 127 [-Wstringop-truncation]
398 | strncpy(snpid, field, MAX_FLD-1);
| ^~~~~~~~~~~~~~~~~~~~~~~~~~~~~~~~
inputNew.c:395:4: warning: 'strncpy' output may be truncated copying 127 bytes from a string of length 127 [-Wstringop-truncation]
395 | strncpy(sampid, field, MAX_FLD-1);
| ^~~~~~~~~~~~~~~~~~~~~~~~~~~~~~~~~
gcc -I"F:/biocbuild/bbs-3.16-bioc/R/include" -DNDEBUG -I"C:/rtools42/x86_64-w64-mingw32.static.posix/include" -O2 -Wall -std=gnu99 -mfpmath=sse -msse2 -mstackrealign -c input_unsorted.c -o input_unsorted.o
gcc -I"F:/biocbuild/bbs-3.16-bioc/R/include" -DNDEBUG -I"C:/rtools42/x86_64-w64-mingw32.static.posix/include" -O2 -Wall -std=gnu99 -mfpmath=sse -msse2 -mstackrealign -c ld_graphic_eps.c -o ld_graphic_eps.o
gcc -I"F:/biocbuild/bbs-3.16-bioc/R/include" -DNDEBUG -I"C:/rtools42/x86_64-w64-mingw32.static.posix/include" -O2 -Wall -std=gnu99 -mfpmath=sse -msse2 -mstackrealign -c ld_with.c -o ld_with.o
gcc -I"F:/biocbuild/bbs-3.16-bioc/R/include" -DNDEBUG -I"C:/rtools42/x86_64-w64-mingw32.static.posix/include" -O2 -Wall -std=gnu99 -mfpmath=sse -msse2 -mstackrealign -c mla.c -o mla.o
gcc -I"F:/biocbuild/bbs-3.16-bioc/R/include" -DNDEBUG -I"C:/rtools42/x86_64-w64-mingw32.static.posix/include" -O2 -Wall -std=gnu99 -mfpmath=sse -msse2 -mstackrealign -c outdata.c -o outdata.o
gcc -I"F:/biocbuild/bbs-3.16-bioc/R/include" -DNDEBUG -I"C:/rtools42/x86_64-w64-mingw32.static.posix/include" -O2 -Wall -std=gnu99 -mfpmath=sse -msse2 -mstackrealign -c pairwise_linkage.c -o pairwise_linkage.o
gcc -I"F:/biocbuild/bbs-3.16-bioc/R/include" -DNDEBUG -I"C:/rtools42/x86_64-w64-mingw32.static.posix/include" -O2 -Wall -std=gnu99 -mfpmath=sse -msse2 -mstackrealign -c read_chiamo.c -o read_chiamo.o
gcc -I"F:/biocbuild/bbs-3.16-bioc/R/include" -DNDEBUG -I"C:/rtools42/x86_64-w64-mingw32.static.posix/include" -O2 -Wall -std=gnu99 -mfpmath=sse -msse2 -mstackrealign -c read_hapmap.c -o read_hapmap.o
gcc -I"F:/biocbuild/bbs-3.16-bioc/R/include" -DNDEBUG -I"C:/rtools42/x86_64-w64-mingw32.static.posix/include" -O2 -Wall -std=gnu99 -mfpmath=sse -msse2 -mstackrealign -c read_pedfile.c -o read_pedfile.o
gcc -I"F:/biocbuild/bbs-3.16-bioc/R/include" -DNDEBUG -I"C:/rtools42/x86_64-w64-mingw32.static.posix/include" -O2 -Wall -std=gnu99 -mfpmath=sse -msse2 -mstackrealign -c read_signals.c -o read_signals.o
gcc -I"F:/biocbuild/bbs-3.16-bioc/R/include" -DNDEBUG -I"C:/rtools42/x86_64-w64-mingw32.static.posix/include" -O2 -Wall -std=gnu99 -mfpmath=sse -msse2 -mstackrealign -c readped.c -o readped.o
readped.c: In function 'readped':
readped.c:233:33: warning: '%d' directive output may be truncated writing between 1 and 11 bytes into a region of size between 0 and 80 [-Wformat-truncation=]
233 | snprintf(fmid, MAX_ID, "%s%c%d", fid, sepchar, memi);
| ^~
readped.c:233:5: note: 'snprintf' output between 3 and 93 bytes into a destination of size 81
233 | snprintf(fmid, MAX_ID, "%s%c%d", fid, sepchar, memi);
| ^~~~~~~~~~~~~~~~~~~~~~~~~~~~~~~~~~~~~~~~~~~~~~~~~~~~
gcc -I"F:/biocbuild/bbs-3.16-bioc/R/include" -DNDEBUG -I"C:/rtools42/x86_64-w64-mingw32.static.posix/include" -O2 -Wall -std=gnu99 -mfpmath=sse -msse2 -mstackrealign -c sdfpw.c -o sdfpw.o
gcc -I"F:/biocbuild/bbs-3.16-bioc/R/include" -DNDEBUG -I"C:/rtools42/x86_64-w64-mingw32.static.posix/include" -O2 -Wall -std=gnu99 -mfpmath=sse -msse2 -mstackrealign -c single_snp_tests.c -o single_snp_tests.o
gcc -I"F:/biocbuild/bbs-3.16-bioc/R/include" -DNDEBUG -I"C:/rtools42/x86_64-w64-mingw32.static.posix/include" -O2 -Wall -std=gnu99 -mfpmath=sse -msse2 -mstackrealign -c snp_summary.c -o snp_summary.o
gcc -I"F:/biocbuild/bbs-3.16-bioc/R/include" -DNDEBUG -I"C:/rtools42/x86_64-w64-mingw32.static.posix/include" -O2 -Wall -std=gnu99 -mfpmath=sse -msse2 -mstackrealign -c snpmpy.c -o snpmpy.o
gcc -I"F:/biocbuild/bbs-3.16-bioc/R/include" -DNDEBUG -I"C:/rtools42/x86_64-w64-mingw32.static.posix/include" -O2 -Wall -std=gnu99 -mfpmath=sse -msse2 -mstackrealign -c solve_cubic.c -o solve_cubic.o
gcc -I"F:/biocbuild/bbs-3.16-bioc/R/include" -DNDEBUG -I"C:/rtools42/x86_64-w64-mingw32.static.posix/include" -O2 -Wall -std=gnu99 -mfpmath=sse -msse2 -mstackrealign -c solve_quadratic.c -o solve_quadratic.o
gcc -I"F:/biocbuild/bbs-3.16-bioc/R/include" -DNDEBUG -I"C:/rtools42/x86_64-w64-mingw32.static.posix/include" -O2 -Wall -std=gnu99 -mfpmath=sse -msse2 -mstackrealign -c structure.c -o structure.o
gcc -I"F:/biocbuild/bbs-3.16-bioc/R/include" -DNDEBUG -I"C:/rtools42/x86_64-w64-mingw32.static.posix/include" -O2 -Wall -std=gnu99 -mfpmath=sse -msse2 -mstackrealign -c trees.c -o trees.o
gcc -I"F:/biocbuild/bbs-3.16-bioc/R/include" -DNDEBUG -I"C:/rtools42/x86_64-w64-mingw32.static.posix/include" -O2 -Wall -std=gnu99 -mfpmath=sse -msse2 -mstackrealign -c uncompr.c -o uncompr.o
gcc -I"F:/biocbuild/bbs-3.16-bioc/R/include" -DNDEBUG -I"C:/rtools42/x86_64-w64-mingw32.static.posix/include" -O2 -Wall -std=gnu99 -mfpmath=sse -msse2 -mstackrealign -c zutil.c -o zutil.o
gcc -shared -s -static-libgcc -o chopsticks.dll tmp.def adler32.o bind.o compress.o crc32.o deflate.o force_hom.o glm_test.o glm_test_R.o gzio.o hash_index.o ibs.o in.o infback.o inffast.o inflate.o inftrees.o input.o inputNew.o input_unsorted.o ld_graphic_eps.o ld_with.o mla.o outdata.o pairwise_linkage.o read_chiamo.o read_hapmap.o read_pedfile.o read_signals.o readped.o sdfpw.o single_snp_tests.o snp_summary.o snpmpy.o solve_cubic.o solve_quadratic.o structure.o trees.o uncompr.o zutil.o -LC:/rtools42/x86_64-w64-mingw32.static.posix/lib/x64 -LC:/rtools42/x86_64-w64-mingw32.static.posix/lib -LF:/biocbuild/bbs-3.16-bioc/R/bin/x64 -lR
installing to F:/biocbuild/bbs-3.16-bioc/meat/chopsticks.buildbin-libdir/00LOCK-chopsticks/00new/chopsticks/libs/x64
** R
** data
** inst
** byte-compile and prepare package for lazy loading
** help
*** installing help indices
** building package indices
** installing vignettes
** testing if installed package can be loaded from temporary location
** testing if installed package can be loaded from final location
** testing if installed package keeps a record of temporary installation path
* MD5 sums
packaged installation of 'chopsticks' as chopsticks_1.64.0.zip
* DONE (chopsticks)