Package: chipseq Version: 1.48.0 Command: /home/biocbuild/bbs-3.16-bioc/R/bin/R CMD INSTALL chipseq StartedAt: 2023-04-10 15:30:14 -0400 (Mon, 10 Apr 2023) EndedAt: 2023-04-10 15:30:52 -0400 (Mon, 10 Apr 2023) EllapsedTime: 38.3 seconds RetCode: 0 Status: OK