Package: chipseq Version: 1.48.0 Command: /home/biocbuild/bbs-3.16-bioc/R/bin/R CMD check --install=check:chipseq.install-out.txt --library=/home/biocbuild/bbs-3.16-bioc/R/site-library --timings chipseq_1.48.0.tar.gz StartedAt: 2023-04-10 19:40:47 -0400 (Mon, 10 Apr 2023) EndedAt: 2023-04-10 19:48:47 -0400 (Mon, 10 Apr 2023) EllapsedTime: 480.1 seconds RetCode: 0 Status: WARNINGS CheckDir: chipseq.Rcheck Warnings: 3