Package: chipseq Version: 1.47.0 Command: /Library/Frameworks/R.framework/Resources/bin/R CMD INSTALL chipseq StartedAt: 2022-07-10 18:20:28 -0400 (Sun, 10 Jul 2022) EndedAt: 2022-07-10 18:22:41 -0400 (Sun, 10 Jul 2022) EllapsedTime: 132.7 seconds RetCode: 0 Status: OK