Package: cfDNAPro Version: 1.4.0 Command: /home/biocbuild/bbs-3.16-bioc/R/bin/R CMD check --install=check:cfDNAPro.install-out.txt --library=/home/biocbuild/bbs-3.16-bioc/R/site-library --timings cfDNAPro_1.4.0.tar.gz StartedAt: 2023-04-10 19:37:21 -0400 (Mon, 10 Apr 2023) EndedAt: 2023-04-10 19:41:28 -0400 (Mon, 10 Apr 2023) EllapsedTime: 246.1 seconds RetCode: 0 Status: OK CheckDir: cfDNAPro.Rcheck Warnings: 0