Package: cfDNAPro Version: 1.4.0 Command: /Library/Frameworks/R.framework/Resources/bin/R CMD INSTALL cfDNAPro StartedAt: 2023-04-10 15:30:52 -0400 (Mon, 10 Apr 2023) EndedAt: 2023-04-10 15:31:31 -0400 (Mon, 10 Apr 2023) EllapsedTime: 39.1 seconds RetCode: 0 Status: OK