Package: cellTree Version: 1.28.0 Command: chmod a+r cellTree -R && F:\biocbuild\bbs-3.16-bioc\R\bin\R.exe CMD build --keep-empty-dirs --no-resave-data cellTree StartedAt: 2023-04-10 17:38:51 -0400 (Mon, 10 Apr 2023) EndedAt: 2023-04-10 17:40:15 -0400 (Mon, 10 Apr 2023) EllapsedTime: 83.9 seconds RetCode: 1 Status: ERROR PackageFile: None PackageFileSize: NA