Package: cBioPortalData Version: 2.10.3 Command: /Library/Frameworks/R.framework/Resources/bin/R CMD build --keep-empty-dirs --no-resave-data cBioPortalData StartedAt: 2023-04-10 16:03:16 -0400 (Mon, 10 Apr 2023) EndedAt: 2023-04-10 16:05:49 -0400 (Mon, 10 Apr 2023) EllapsedTime: 152.2 seconds RetCode: 0 Status: OK PackageFile: cBioPortalData_2.10.3.tar.gz PackageFileSize: 1010 KiB