Package: cBioPortalData Version: 2.10.3 Command: rm -rf cBioPortalData.buildbin-libdir && mkdir cBioPortalData.buildbin-libdir && /Users/biocbuild/BBS/utils/build-universal.sh cBioPortalData_2.10.3.tar.gz /Library/Frameworks/R.framework/Resources/bin/R cBioPortalData.buildbin-libdir StartedAt: 2023-04-10 23:35:37 -0400 (Mon, 10 Apr 2023) EndedAt: 2023-04-10 23:36:27 -0400 (Mon, 10 Apr 2023) EllapsedTime: 50.5 seconds RetCode: 0 Status: OK PackageFile: cBioPortalData_2.10.3.tgz PackageFileSize: 1.061 MiB