Package: bigPint Version: 1.14.0 Command: /Library/Frameworks/R.framework/Resources/bin/R CMD build --keep-empty-dirs --no-resave-data bigPint StartedAt: 2023-04-10 15:54:50 -0400 (Mon, 10 Apr 2023) EndedAt: 2023-04-10 15:55:33 -0400 (Mon, 10 Apr 2023) EllapsedTime: 42.9 seconds RetCode: 0 Status: OK PackageFile: bigPint_1.14.0.tar.gz PackageFileSize: 5.559 MiB