Package: bgx Version: 1.64.0 Command: /home/biocbuild/bbs-3.16-bioc/R/bin/R CMD INSTALL bgx StartedAt: 2023-04-10 15:13:23 -0400 (Mon, 10 Apr 2023) EndedAt: 2023-04-10 15:13:56 -0400 (Mon, 10 Apr 2023) EllapsedTime: 33.4 seconds RetCode: 0 Status: OK