Package: basilisk Version: 1.10.2 Command: /Library/Frameworks/R.framework/Resources/bin/R CMD build --keep-empty-dirs --no-resave-data basilisk StartedAt: 2023-04-10 15:52:10 -0400 (Mon, 10 Apr 2023) EndedAt: 2023-04-10 15:56:03 -0400 (Mon, 10 Apr 2023) EllapsedTime: 233.2 seconds RetCode: 0 Status: OK PackageFile: basilisk_1.10.2.tar.gz PackageFileSize: 260.8 KiB