Package: arrayQuality Version: 1.75.0 Command: /Library/Frameworks/R.framework/Resources/bin/R CMD INSTALL arrayQuality StartedAt: 2022-07-10 15:36:55 -0400 (Sun, 10 Jul 2022) EndedAt: 2022-07-10 15:37:04 -0400 (Sun, 10 Jul 2022) EllapsedTime: 9.7 seconds RetCode: 0 Status: OK