Package: arrayQuality Version: 1.75.0 Command: /Library/Frameworks/R.framework/Resources/bin/R CMD build --keep-empty-dirs --no-resave-data arrayQuality StartedAt: 2022-07-10 20:29:32 -0400 (Sun, 10 Jul 2022) EndedAt: 2022-07-10 20:29:43 -0400 (Sun, 10 Jul 2022) EllapsedTime: 10.9 seconds RetCode: 0 Status: OK PackageFile: arrayQuality_1.75.0.tar.gz PackageFileSize: 12.82 MiB