Package: arrayQuality Version: 1.75.0 Command: rm -rf arrayQuality.buildbin-libdir && mkdir arrayQuality.buildbin-libdir && /Users/biocbuild/BBS/utils/build-universal.sh arrayQuality_1.75.0.tar.gz /Library/Frameworks/R.framework/Resources/bin/R arrayQuality.buildbin-libdir StartedAt: 2022-07-07 07:29:17 -0400 (Thu, 07 Jul 2022) EndedAt: 2022-07-07 07:29:41 -0400 (Thu, 07 Jul 2022) EllapsedTime: 24.6 seconds RetCode: 0 Status: OK PackageFile: arrayQuality_1.75.0.tgz PackageFileSize: 12.16 MiB