Welcome to mirrors.dotsrc.org

All our mirrors of open source software are available via http, https, ftp and an onion service. More information about our mirrors including statistics and contact information is available on our mirror info pages.

For information about dotsrc.org and our other services please go to our website.

Index of /bioconductor/checkResults/3.16/bioc-LATEST/a4Base/raw-results/kjohnson/

File Name  ↓ File Size  ↓ Date  ↓ 
--
861 B2022-07-07 15:10:42
443 B2022-07-07 15:10:42
803 B2022-07-11 15:06:37
423 B2022-07-11 15:06:37
967 B2022-07-11 15:06:37
267 B2022-07-11 15:06:37