Package: VariantExperiment Version: 1.12.0 Command: /Library/Frameworks/R.framework/Resources/bin/R CMD build --keep-empty-dirs --no-resave-data VariantExperiment StartedAt: 2023-04-10 18:21:28 -0400 (Mon, 10 Apr 2023) EndedAt: 2023-04-10 18:22:13 -0400 (Mon, 10 Apr 2023) EllapsedTime: 45.2 seconds RetCode: 0 Status: OK PackageFile: VariantExperiment_1.12.0.tar.gz PackageFileSize: 312.2 KiB