Package: VarCon Version: 1.6.0 Command: rm -rf VarCon.buildbin-libdir && mkdir VarCon.buildbin-libdir && /Users/biocbuild/BBS/utils/build-universal.sh VarCon_1.6.0.tar.gz /Library/Frameworks/R.framework/Resources/bin/R VarCon.buildbin-libdir StartedAt: 2023-04-11 00:10:01 -0400 (Tue, 11 Apr 2023) EndedAt: 2023-04-11 00:10:51 -0400 (Tue, 11 Apr 2023) EllapsedTime: 50.1 seconds RetCode: 0 Status: OK PackageFile: VarCon_1.6.0.tgz PackageFileSize: 2.015 MiB