Package: UniProt.ws Version: 2.38.1 Command: /home/biocbuild/bbs-3.16-bioc/R/bin/R CMD check --install=check:UniProt.ws.install-out.txt --library=/home/biocbuild/bbs-3.16-bioc/R/site-library --timings UniProt.ws_2.38.1.tar.gz StartedAt: 2023-04-11 00:44:31 -0400 (Tue, 11 Apr 2023) EndedAt: 2023-04-11 00:47:11 -0400 (Tue, 11 Apr 2023) EllapsedTime: 159.6 seconds RetCode: 0 Status: OK CheckDir: UniProt.ws.Rcheck Warnings: 0