Package: UniProt.ws Version: 2.38.1 Command: rm -rf UniProt.ws.buildbin-libdir && mkdir UniProt.ws.buildbin-libdir && /Users/biocbuild/BBS/utils/build-universal.sh UniProt.ws_2.38.1.tar.gz /Library/Frameworks/R.framework/Resources/bin/R UniProt.ws.buildbin-libdir StartedAt: 2023-04-11 00:09:56 -0400 (Tue, 11 Apr 2023) EndedAt: 2023-04-11 00:10:18 -0400 (Tue, 11 Apr 2023) EllapsedTime: 21.9 seconds RetCode: 0 Status: OK PackageFile: UniProt.ws_2.38.1.tgz PackageFileSize: 398.7 KiB