Package: TrajectoryUtils Version: 1.6.0 Command: /Library/Frameworks/R.framework/Resources/bin/R CMD check --install=check:TrajectoryUtils.install-out.txt --library=/Library/Frameworks/R.framework/Resources/library --no-vignettes --timings TrajectoryUtils_1.6.0.tar.gz StartedAt: 2023-04-10 23:08:50 -0400 (Mon, 10 Apr 2023) EndedAt: 2023-04-10 23:11:14 -0400 (Mon, 10 Apr 2023) EllapsedTime: 144.4 seconds RetCode: 0 Status: OK CheckDir: TrajectoryUtils.Rcheck Warnings: 0