Package: TileDBArray Version: 1.8.0 Command: chmod a+r TileDBArray -R && F:\biocbuild\bbs-3.16-bioc\R\bin\R.exe CMD build --keep-empty-dirs --no-resave-data TileDBArray StartedAt: 2023-04-10 22:05:21 -0400 (Mon, 10 Apr 2023) EndedAt: 2023-04-10 22:06:04 -0400 (Mon, 10 Apr 2023) EllapsedTime: 42.2 seconds RetCode: 0 Status: OK PackageFile: TileDBArray_1.8.0.tar.gz PackageFileSize: 291.7 KiB