Package: SynExtend Version: 1.10.2 Command: /home/biocbuild/bbs-3.16-bioc/R/bin/R CMD check --install=check:SynExtend.install-out.txt --library=/home/biocbuild/bbs-3.16-bioc/R/site-library --timings SynExtend_1.10.2.tar.gz StartedAt: 2023-04-11 00:28:01 -0400 (Tue, 11 Apr 2023) EndedAt: 2023-04-11 00:30:42 -0400 (Tue, 11 Apr 2023) EllapsedTime: 161.3 seconds RetCode: 0 Status: OK CheckDir: SynExtend.Rcheck Warnings: 0