Package: SparseSignatures Version: 2.8.0 Command: F:\biocbuild\bbs-3.16-bioc\R\bin\R.exe CMD INSTALL SparseSignatures StartedAt: 2023-04-10 16:18:10 -0400 (Mon, 10 Apr 2023) EndedAt: 2023-04-10 16:18:53 -0400 (Mon, 10 Apr 2023) EllapsedTime: 42.8 seconds RetCode: 0 Status: OK