Package: SparseSignatures Version: 2.8.0 Command: rm -rf SparseSignatures.buildbin-libdir && mkdir SparseSignatures.buildbin-libdir && F:\biocbuild\bbs-3.16-bioc\R\bin\R.exe CMD INSTALL --build --library=SparseSignatures.buildbin-libdir SparseSignatures_2.8.0.tar.gz StartedAt: 2023-04-11 08:49:49 -0400 (Tue, 11 Apr 2023) EndedAt: 2023-04-11 08:50:40 -0400 (Tue, 11 Apr 2023) EllapsedTime: 51.7 seconds RetCode: 0 Status: OK PackageFile: SparseSignatures_2.8.0.zip PackageFileSize: 1.093 MiB