############################################################################## ############################################################################## ### ### Running command: ### ### /Library/Frameworks/R.framework/Resources/bin/R CMD build --keep-empty-dirs --no-resave-data SingleCellSignalR ### ############################################################################## ############################################################################## * checking for file ‘SingleCellSignalR/DESCRIPTION’ ... OK * preparing ‘SingleCellSignalR’: * checking DESCRIPTION meta-information ... OK * installing the package to build vignettes ----------------------------------- ERROR: dependencies ‘edgeR’, ‘SIMLR’, ‘scran’ are not available for package ‘SingleCellSignalR’ * removing ‘/private/tmp/RtmprjHji2/Rinst13c06e211dcb/SingleCellSignalR’ ----------------------------------- ERROR: package installation failed