Package: SeqSQC Version: 1.20.0 Command: /home/biocbuild/bbs-3.16-bioc/R/bin/R CMD build --keep-empty-dirs --no-resave-data SeqSQC StartedAt: 2023-04-10 18:12:48 -0400 (Mon, 10 Apr 2023) EndedAt: 2023-04-10 18:13:46 -0400 (Mon, 10 Apr 2023) EllapsedTime: 58.2 seconds RetCode: 0 Status: OK PackageFile: SeqSQC_1.20.0.tar.gz PackageFileSize: 3.572 MiB