Package: SamSPECTRAL Version: 1.52.0 Command: /Library/Frameworks/R.framework/Resources/bin/R CMD build --keep-empty-dirs --no-resave-data SamSPECTRAL StartedAt: 2023-04-10 17:51:25 -0400 (Mon, 10 Apr 2023) EndedAt: 2023-04-10 17:52:23 -0400 (Mon, 10 Apr 2023) EllapsedTime: 57.4 seconds RetCode: 0 Status: OK PackageFile: SamSPECTRAL_1.52.0.tar.gz PackageFileSize: 935.9 KiB