Package: SamSPECTRAL Version: 1.52.0 Command: rm -rf SamSPECTRAL.buildbin-libdir && mkdir SamSPECTRAL.buildbin-libdir && /Users/biocbuild/BBS/utils/build-universal.sh SamSPECTRAL_1.52.0.tar.gz /Library/Frameworks/R.framework/Resources/bin/R SamSPECTRAL.buildbin-libdir StartedAt: 2023-04-11 00:02:45 -0400 (Tue, 11 Apr 2023) EndedAt: 2023-04-11 00:02:53 -0400 (Tue, 11 Apr 2023) EllapsedTime: 7.8 seconds RetCode: 0 Status: OK PackageFile: SamSPECTRAL_1.52.0.tgz PackageFileSize: 994.3 KiB