Package: SUITOR Version: 1.0.0 Command: /home/biocbuild/bbs-3.16-bioc/R/bin/R CMD build --keep-empty-dirs --no-resave-data SUITOR StartedAt: 2023-04-10 18:23:23 -0400 (Mon, 10 Apr 2023) EndedAt: 2023-04-10 18:24:20 -0400 (Mon, 10 Apr 2023) EllapsedTime: 57.1 seconds RetCode: 0 Status: OK PackageFile: SUITOR_1.0.0.tar.gz PackageFileSize: 245.9 KiB