Package: STdeconvolve Version: 1.2.0 Command: /Library/Frameworks/R.framework/Resources/bin/R CMD build --keep-empty-dirs --no-resave-data STdeconvolve StartedAt: 2023-04-10 18:12:04 -0400 (Mon, 10 Apr 2023) EndedAt: 2023-04-10 18:13:37 -0400 (Mon, 10 Apr 2023) EllapsedTime: 93.2 seconds RetCode: 0 Status: OK PackageFile: STdeconvolve_1.2.0.tar.gz PackageFileSize: 2.632 MiB