Package: SQLDataFrame Version: 1.12.0 Command: rm -rf SQLDataFrame.buildbin-libdir && mkdir SQLDataFrame.buildbin-libdir && F:\biocbuild\bbs-3.16-bioc\R\bin\R.exe CMD INSTALL --build --library=SQLDataFrame.buildbin-libdir SQLDataFrame_1.12.0.tar.gz StartedAt: 2023-04-11 08:51:07 -0400 (Tue, 11 Apr 2023) EndedAt: 2023-04-11 08:51:26 -0400 (Tue, 11 Apr 2023) EllapsedTime: 19.1 seconds RetCode: 0 Status: OK PackageFile: SQLDataFrame_1.12.0.zip PackageFileSize: 859.6 KiB