Package: SPsimSeq Version: 1.8.0 Command: rm -rf SPsimSeq.buildbin-libdir && mkdir SPsimSeq.buildbin-libdir && /Users/biocbuild/BBS/utils/build-universal.sh SPsimSeq_1.8.0.tar.gz /Library/Frameworks/R.framework/Resources/bin/R SPsimSeq.buildbin-libdir StartedAt: 2023-04-11 00:07:08 -0400 (Tue, 11 Apr 2023) EndedAt: 2023-04-11 00:07:49 -0400 (Tue, 11 Apr 2023) EllapsedTime: 40.8 seconds RetCode: 0 Status: OK PackageFile: SPsimSeq_1.8.0.tgz PackageFileSize: 895.6 KiB